BEGIN:VCALENDAR
VERSION:2.0
PRODID:-//EzCamp - ECPv6.15.8//NONSGML v1.0//EN
CALSCALE:GREGORIAN
METHOD:PUBLISH
X-ORIGINAL-URL:https://ezcamp.id
X-WR-CALDESC:Events for EzCamp
REFRESH-INTERVAL;VALUE=DURATION:PT1H
X-Robots-Tag:noindex
X-PUBLISHED-TTL:PT1H
BEGIN:VTIMEZONE
TZID:Asia/Jakarta
BEGIN:STANDARD
TZOFFSETFROM:+0700
TZOFFSETTO:+0700
TZNAME:WIB
DTSTART:20250101T000000
END:STANDARD
END:VTIMEZONE
BEGIN:VEVENT
DTSTART;VALUE=DATE:20260807
DTEND;VALUE=DATE:20260810
DTSTAMP:20260421T202131
CREATED:20260404T123614Z
LAST-MODIFIED:20260404T123655Z
UID:10000011-1786060800-1786319999@ezcamp.id
SUMMARY:The Sounds Project 2026
DESCRIPTION:Kategori: Festival Musik Outdoor\nTanggal: 7 – 9 Agustus 2026 (Jadwal dapat berubah\, pantau info resmi)\nLokasi: Ecovention & Ecopark\, Ancol\, Jakarta Utara \nThe Sounds Project adalah acara musik tahunan yang kembali hadir di 2026\, berlokasi di Ecovention & Ecopark\, Ancol\, Jakarta. Festival ini menghadirkan lineup beragam termasuk Pamungkas\, Rizky Febian\, JUICY LUICY\, For Revenge\, Barasuara\, Lomba Sihir\, dan Adrian Khalif — cocok buat pecinta musik indie dan pop Indonesia yang juga suka suasana outdoor. \nInfo Tiket & Kontak: \n\nWebsite resmi: https://thesoundsproject.com/\nTiket tersedia di platform online (Loket/GoTix — pantau pengumuman resmi)\nCek info terbaru di media sosial promotor
URL:https://ezcamp.id/event/the-sounds-project-2026/
LOCATION:Ecovention Building – Ecopark\, Jl. Lodan Raya\, RW.10\, Ancol\, Kec. Pademangan\, Jkt Utara\, Daerah Khusus Ibukota Jakarta 14430\, DKI Jakarta\, Jawa Barat\, 14430\, Indonesia
CATEGORIES:Events
END:VEVENT
END:VCALENDAR