BEGIN:VCALENDAR
VERSION:2.0
PRODID:-//EzCamp - ECPv6.15.8//NONSGML v1.0//EN
CALSCALE:GREGORIAN
METHOD:PUBLISH
X-ORIGINAL-URL:https://ezcamp.id
X-WR-CALDESC:Events for EzCamp
REFRESH-INTERVAL;VALUE=DURATION:PT1H
X-Robots-Tag:noindex
X-PUBLISHED-TTL:PT1H
BEGIN:VTIMEZONE
TZID:Asia/Jakarta
BEGIN:STANDARD
TZOFFSETFROM:+0700
TZOFFSETTO:+0700
TZNAME:WIB
DTSTART:20250101T000000
END:STANDARD
END:VTIMEZONE
BEGIN:VEVENT
DTSTART;VALUE=DATE:20260724
DTEND;VALUE=DATE:20260726
DTSTAMP:20260421T184628
CREATED:20260402T122817Z
LAST-MODIFIED:20260402T122817Z
UID:10000008-1784851200-1785023999@ezcamp.id
SUMMARY:Jazz Gunung Bromo 2026
DESCRIPTION:Jazz Gunung adalah salah satu festival musik jazz paling unik di Indonesia\, menggabungkan keindahan alam pegunungan dengan pertunjukan musik jazz berkualitas. Konser berlangsung di ruang terbuka dengan latar kawasan Bromo yang ikonik. Tiket tersedia dalam kategori Tribune\, VIP\, dan VVIP\, dan bisa dibeli secara online. \nInfo Tiket & Kontak: \n\nWebsite: www.jazzgunung.com\nInstagram: @jazzgunung\nTiket online: tersedia di store resmi jazzgunung.com
URL:https://ezcamp.id/event/jazz-gunung-bromo-2026/
LOCATION:Amphitheater Jiwa Jawa Resort Bromo\,\, Wonotoro\, Sukapura\, Probolinggo Regency\, East Java 67254\, Probolinggo\, Jawa Timur\, 67254\, Indonesia
CATEGORIES:Events
END:VEVENT
END:VCALENDAR