BEGIN:VCALENDAR
VERSION:2.0
PRODID:-//EzCamp - ECPv6.15.8//NONSGML v1.0//EN
CALSCALE:GREGORIAN
METHOD:PUBLISH
X-WR-CALNAME:EzCamp
X-ORIGINAL-URL:https://ezcamp.id
X-WR-CALDESC:Events for EzCamp
REFRESH-INTERVAL;VALUE=DURATION:PT1H
X-Robots-Tag:noindex
X-PUBLISHED-TTL:PT1H
BEGIN:VTIMEZONE
TZID:Asia/Jakarta
BEGIN:STANDARD
TZOFFSETFROM:+0700
TZOFFSETTO:+0700
TZNAME:WIB
DTSTART:20250101T000000
END:STANDARD
END:VTIMEZONE
BEGIN:VEVENT
DTSTART;VALUE=DATE:20260627
DTEND;VALUE=DATE:20260628
DTSTAMP:20260421T192024
CREATED:20260404T091940Z
LAST-MODIFIED:20260404T091940Z
UID:10000009-1782518400-1782604799@ezcamp.id
SUMMARY:Jazz Gunung Slamet 2026
DESCRIPTION:Jazz Gunung Slamet 2026 hadir di Wana Wisata Baturraden sebagai bagian dari format “Jazz Gunung Series” Konser\, dengan artis seperti MOCCA\, Amelia Ong\, dan NonaRia. Konsep festival di tengah hutan tropis dengan udara sejuk Baturraden menjadikan ini pengalaman musik yang unik dan sangat ramah camper. \nInfo Tiket & Kontak: \n\nWebsite: www.jazzgunung.com\nInstagram: @jazzgunung\nTiket: tersedia di store resmi jazzgunung.com
URL:https://ezcamp.id/event/jazz-gunung-slamet-2026/
LOCATION:Wana Wisata Baturraden\, Jl. Bumi Perkemahan Wana Wisata\, Dusun I Karangmangu\, Kemutug Lor\, Kec. Baturaden\, Kabupaten Banyumas\, Jawa Tengah 53151\, Banyumas\, Jawa Barat\, 53151\, Indonesia
CATEGORIES:Events
END:VEVENT
END:VCALENDAR