BEGIN:VCALENDAR
VERSION:2.0
PRODID:-//EzCamp - ECPv6.15.8//NONSGML v1.0//EN
CALSCALE:GREGORIAN
METHOD:PUBLISH
X-ORIGINAL-URL:https://ezcamp.id
X-WR-CALDESC:Events for EzCamp
REFRESH-INTERVAL;VALUE=DURATION:PT1H
X-Robots-Tag:noindex
X-PUBLISHED-TTL:PT1H
BEGIN:VTIMEZONE
TZID:Asia/Jakarta
BEGIN:STANDARD
TZOFFSETFROM:+0700
TZOFFSETTO:+0700
TZNAME:WIB
DTSTART:20250101T000000
END:STANDARD
END:VTIMEZONE
BEGIN:VEVENT
DTSTART;VALUE=DATE:20260604
DTEND;VALUE=DATE:20260608
DTSTAMP:20260421T213453
CREATED:20260402T122232Z
LAST-MODIFIED:20260402T122232Z
UID:10000007-1780531200-1780876799@ezcamp.id
SUMMARY:INDOFEST 2026 – Indonesia Outdoor Festival
DESCRIPTION:INDOFEST adalah pameran outdoor dan adventure terbesar di Asia Tenggara. Menghadirkan brand gear terbaik\, komunitas pecinta alam\, workshop\, games\, sesi sharing\, dan live musik. Aktivitas yang bisa dinikmati termasuk Running\, Camping\, Hiking\, dan Mountain Biking. Cocok banget buat para camper yang mau upgrade gear atau sekadar cari inspirasi petualangan baru. \nInfo Tiket & Kontak: \n\nWebsite: www.indo-fest.com\nInstagram: @indofestofficial\nFacebook: INDOFEST\nTikTok: @indofestofficial
URL:https://ezcamp.id/event/indofest-2026-indonesia-outdoor-festival/
LOCATION:JICC Senayan\, Jl. Gatot Subroto\, RT.1/RW.3\, Gelora\, Kecamatan Tanah Abang\, Kota Jakarta Pusat\, Daerah Khusus Ibukota Jakarta 10270\, DKI Jakarta\, Indonesia
CATEGORIES:Events
END:VEVENT
END:VCALENDAR