BEGIN:VCALENDAR
VERSION:2.0
PRODID:-//EzCamp - ECPv6.15.8//NONSGML v1.0//EN
CALSCALE:GREGORIAN
METHOD:PUBLISH
X-ORIGINAL-URL:https://ezcamp.id
X-WR-CALDESC:Events for EzCamp
REFRESH-INTERVAL;VALUE=DURATION:PT1H
X-Robots-Tag:noindex
X-PUBLISHED-TTL:PT1H
BEGIN:VTIMEZONE
TZID:Asia/Jakarta
BEGIN:STANDARD
TZOFFSETFROM:+0700
TZOFFSETTO:+0700
TZNAME:WIB
DTSTART:20250101T000000
END:STANDARD
END:VTIMEZONE
BEGIN:VEVENT
DTSTART;VALUE=DATE:20260823
DTEND;VALUE=DATE:20260825
DTSTAMP:20260422T042618
CREATED:20260404T122818Z
LAST-MODIFIED:20260404T123814Z
UID:10000010-1787443200-1787615999@ezcamp.id
SUMMARY:Dieng Culture Festival (DCF) 2026
DESCRIPTION:Kategori: Festival Budaya & Musik Outdoor di Pegunungan\nTanggal: 23 – 24 Agustus 2026 (estimasi\, jadwal resmi menyusul)\nLokasi: Kompleks Candi Arjuna & Lapangan Pandawa\, Dieng Kulon\, Banjarnegara\, Jawa Tengah \nDieng Culture Festival adalah salah satu event budaya paling dinanti di Indonesia\, memadukan tradisi sakral\, musik\, dan keindahan alam pegunungan. Rangkaian acaranya meliputi Jazz Atas Awan\, festival lampion terbang\, kirab budaya\, pertunjukan seni\, orkestra symphony\, hingga ritual cukur rambut gimbal yang jadi ikon DCF. Suasana perkemahan di dataran tinggi Dieng bikin event ini sangat relevan buat komunitas camper. \nInfo Tiket & Kontak: \n\nWebsite resmi: www.festivaldieng.id\nTiket tersedia di Traveloka (cari “Dieng Culture Festival”)\nTiket biasanya habis dalam hitungan menit\, pantau terus website resmi!
URL:https://ezcamp.id/event/dieng-culture-festival-2026/
LOCATION:Lapangan Pandawa\, Karangsari\, Dieng Kulon\, Kec. Batur\, Kab. Banjarnegara\, Jawa Tengah 53456\, Banjarnegara\, Jawa Tengah\, 53456\, Indonesia
CATEGORIES:Events
END:VEVENT
END:VCALENDAR